BEGIN:VCALENDAR
VERSION:2.0
PRODID:-//hacksw/handcal//NONSGML v1.0//EN
BEGIN:VEVENT
SUMMARY:Ski 7 Laux U6 a U21
UID:c336907a-d4ca-4661-8d52-dca0f27fa36d
DTSTART:20260107T113000Z
DTEND:20260107T171500Z
LOCATION:Localisation   Prapoutel
CATEGORIES:Sportif
STATUS:
DESCRIPTION:<p>Depart 12h30 de la piscine du campus et retour 18h15
 au meme endroit. Transport en bus. geant U8, U14, U16 et U18. Slalom
 U10, U12.</p>
 
 <p>Un depart est egalement mis en place a 10h de la
 piscine du campus pour les U12 et +. (U10 sur demande en fonction du
 niveau car je suis seul intervenant) 8 places. </p>
URL;VALUE=URI:https://gucgrenobleski.sportsregions.fr/evenements/2026/01/07/ski-7-laux-u6-a-u21-2370409
END:VEVENT
END:VCALENDAR
