BEGIN:VCALENDAR
VERSION:2.0
PRODID:-//hacksw/handcal//NONSGML v1.0//EN
BEGIN:VEVENT
SUMMARY:Inter-regions Super-G U14
UID:087668b2-e595-4407-b5cc-4fc234df5310
DTSTART:20260118T230000Z
DTEND:20260119T230000Z
LOCATION:Localisation   Alpe d'Huez
CATEGORIES:Sportif
STATUS:
DESCRIPTION:<p>2 jours d'entrainement + 1 jour de competition en
 Super-G a l'Alpe d'huez pour les selectionnes au rassemblement
 inter-regions.</p>
 
 <p>Selectionnes: Lena, Gaspard, Augustin.</p>
URL;VALUE=URI:https://gucgrenobleski.sportsregions.fr/evenements/2026/01/19/inter-regions-super-g-u14-2399862
END:VEVENT
END:VCALENDAR
