BEGIN:VCALENDAR
VERSION:2.0
PRODID:-//hacksw/handcal//NONSGML v1.0//EN
BEGIN:VEVENT
SUMMARY:AG du club
UID:d6687b17-1102-4110-bbad-cc5cd918573a
DTSTART:20260127T174500Z
DTEND:20260127T230000Z
LOCATION:Localisation 6 rue Berthe de Boissieux 38000 GRENOBLE
CATEGORIES:Administratif
STATUS:
DESCRIPTION:<p>Assemblee generale du club.</p>
 
 <p>Nous comptons sur
 votre presence!!! Dans le cas contraire, merci de renvoyer le
 pouvoir.</p>
URL;VALUE=URI:https://gucgrenobleski.sportsregions.fr/evenements/2026/01/27/ag-du-club-2399863
END:VEVENT
END:VCALENDAR
