BEGIN:VCALENDAR
VERSION:2.0
PRODID:-//hacksw/handcal//NONSGML v1.0//EN
BEGIN:VEVENT
SUMMARY:Camp vitesse U12
UID:591bf046-b839-49ce-b10d-6548c4cddd23
DTSTART:20260311T063000Z
DTEND:20260311T230000Z
LOCATION:Localisation   Alpe d'Huez
CATEGORIES:Sportif
STATUS:
DESCRIPTION:<p>Camp vitesse U12 a l'Alpe
 d'Huez.</p>
 
 <p>selectionnes: Lou, Cloe, Louise, Nour, Corentin,
 Victor, Hector, Rossy, Nicolas, Adrian, Thomas.</p>
 
 <p>Depart 7h30
 de la poste d'Eybens.</p>
 
 <p>Pour les autres, entrainement classique
 aux 7 Laux en slalom.</p>
URL;VALUE=URI:https://gucgrenobleski.sportsregions.fr/evenements/2026/03/11/camp-vitesse-u12-2425648
END:VEVENT
END:VCALENDAR
