BEGIN:VCALENDAR
VERSION:2.0
PRODID:-//hacksw/handcal//NONSGML v1.0//EN
BEGIN:VEVENT
SUMMARY:District U14-U16 Geant Collet
UID:9b346cde-7cb5-4400-97e0-6cb680fcb0ee
DTSTART:20260321T063000Z
DTEND:20260321T230000Z
LOCATION:Localisation   Collet d'Allevard
CATEGORIES:Sportif
STATUS:
DESCRIPTION:<p>S'inscrire avant mardi 20h dans le fichier de
 co-voiturage.</p>
 
 <p>Depart 7h30 de la piscine du campus.</p>
URL;VALUE=URI:https://gucgrenobleski.sportsregions.fr/evenements/2026/03/21/district-u14-u16-geant-collet-2426658
END:VEVENT
END:VCALENDAR
