BEGIN:VCALENDAR
VERSION:2.0
PRODID:-//hacksw/handcal//NONSGML v1.0//EN
BEGIN:VEVENT
SUMMARY:Finale district U10 a U21
UID:1b1d71fd-afa0-489c-87c6-e7543a35d1ce
DTSTART:20260329T053000Z
DTEND:20260329T230000Z
LOCATION:Localisation   Prapoutel
CATEGORIES:Sportif
STATUS:
DESCRIPTION:<p>Depart 7h30 de la piscine du campus. Parallele. (skis
 de slalom + casque st batons de geant)</p>
 
 <p>Liste des
 qualifies:</p>
 
 <p>U10: Manon, Lilly, Mathilde, Melinda, Leopold,
 Sebastian, Abdallah.</p>
 
 <p>U12: Lou, Cloe, Louise, Nour, Corentin,
 Victor, Thomas, Rossy, Nicolas, Hector, Adrian.</p>
 
 <p>U14: Lena,
 Lysa, Gaspard, Augustin, Marius, Sacha.</p>
 
 <p>U16: Camille, Lise,
 Lilou, Lou, Eloise, Stanislas, Noe, Adrien, Julien.</p>
 
 <p>U18 et +:
 Marianna, Eva, Maryem, Max, Jules, Antonin, Timeo, Mathis, Elouan,
 Theo, Yllan.</p>
 
 <p>Confirmer vos inscriptions avant mardi 20h dans
 le fichier de co-voiturage.</p>
 
 <p> </p>
URL;VALUE=URI:https://gucgrenobleski.sportsregions.fr/evenements/2026/03/29/finale-district-u10-a-u21-2426664
END:VEVENT
END:VCALENDAR
