BEGIN:VCALENDAR
VERSION:2.0
PRODID:-//hacksw/handcal//NONSGML v1.0//EN
BEGIN:VEVENT
SUMMARY:Ski 7 Laux U14 a Masters
UID:d0ee85bd-c906-4dc9-abaf-2a0d970b3558
DTSTART:20260403T103000Z
DTEND:20260403T154500Z
LOCATION:Localisation   Prapoutel
CATEGORIES:Sportif
STATUS:
DESCRIPTION:<p>Depart 12h30 de la piscine du campus et retour 17h45.
 Geant.</p>
 
 <p>Attention: pas de minibus.</p>
 
 <p> </p>
URL;VALUE=URI:https://gucgrenobleski.sportsregions.fr/evenements/2026/04/03/ski-7-laux-u14-a-masters-2370452
END:VEVENT
END:VCALENDAR
