BEGIN:VCALENDAR
VERSION:2.0
PRODID:-//hacksw/handcal//NONSGML v1.0//EN
BEGIN:VEVENT
SUMMARY:JB CUP
UID:3d3a07dd-375b-4445-9d1b-6d34c2d171a8
DTSTART:20260403T220000Z
DTEND:20260404T220000Z
LOCATION:Localisation   Valloire
CATEGORIES:Sportif
STATUS:
DESCRIPTION:<p>Plus d'infos en + de whatsapp a venir...</p>
URL;VALUE=URI:https://gucgrenobleski.sportsregions.fr/evenements/2026/04/04/jb-cup-2426679
END:VEVENT
END:VCALENDAR
