BEGIN:VCALENDAR
VERSION:2.0
PRODID:-//hacksw/handcal//NONSGML v1.0//EN
BEGIN:VEVENT
SUMMARY:Stage de Paques
UID:4c983cf6-3e14-4d03-8e05-987252f15f2a
DTSTART:20260406T220000Z
DTEND:20260410T220000Z
LOCATION:Localisation   
CATEGORIES:Sportif
STATUS:
DESCRIPTION:<p>Stage a la journee ouvert aux U12 a U21 (dont certains
 jours aux U10) </p>
 
 <p><strong>S'inscrire dans le fichier de
 co-voiturage avant vendredi 3 avril 18h.</strong></p>
 
 <p>Mardi 7
 avril: Ski a la Grave U12 et +. Skis de poudreuse (ou de slalom) +
 DVA-pelle-sonde + pique-nique. Depart 7h30 de la piscine du campus et
 retour 17h-17h30.</p>
 
 <p>Mercredi 8 avril: Ski 7 Laux U10 et +.
 slalom (ou ski) le matin + materiel de snowboard l'apres-midi +
 pique-nique. Depart 8h de la pisicne du campus et retour 17h.
 Debutant snowboard accepte.</p>
 
 <p>Jeudi 9 avril: Ski 7 Laux U10 et
 +. slalom (ou ski) le matin + Ski de randonnee. Materiel de skis de
 randonnee + DVA- pelle-sonde+ pique-nique. Pour la sortie de
 randonnee, nous partons sur un tour de 400-500m de D+. Depart 8h de
 la piscine du campus et retour 17h.</p>
 
 <p>Vendredi 10 avril: Slalom
 le matin (ou ski) + pique-nique + tenue de sport pour surprise.
 Depart 8h de la piscine du campus et retour plutot milieu
 d'apres-midi a confirmer...(16h)</p>
URL;VALUE=URI:https://gucgrenobleski.sportsregions.fr/evenements/2026/04/07/stage-de-paques-2425063
END:VEVENT
END:VCALENDAR
