BEGIN:VCALENDAR
VERSION:2.0
PRODID:-//hacksw/handcal//NONSGML v1.0//EN
BEGIN:VEVENT
SUMMARY:Stage 2 Alpes
UID:ec9145dd-39da-4fd8-b7de-60f8694bc184
DTSTART:20260515T153000Z
DTEND:20260517T220000Z
LOCATION:Localisation   Les 2 Alpes
CATEGORIES:Sportif
STATUS:
DESCRIPTION:<p>Depart jeudi 14 mai a 17h30 du club a Grenoble.</p>
URL;VALUE=URI:https://gucgrenobleski.sportsregions.fr/evenements/2026/05/15/stage-2-alpes-2443306
END:VEVENT
END:VCALENDAR
