BEGIN:VCALENDAR
VERSION:2.0
PRODID:-//hacksw/handcal//NONSGML v1.0//EN
BEGIN:VEVENT
SUMMARY:Prepa physique U10 a U21
UID:fcca48df-73f2-4ddb-ab26-7500b74886a6
DTSTART:20260520T120000Z
DTEND:20260520T150000Z
LOCATION:Localisation 24 boulevard Clemenceau 38100 GRENOBLE
CATEGORIES:Sportif
STATUS:
DESCRIPTION:<p>14h a 17h au club pour les U10 a U21.</p>
URL;VALUE=URI:https://gucgrenobleski.sportsregions.fr/evenements/2026/05/20/prepa-physique-u10-a-u21-2443315
END:VEVENT
END:VCALENDAR
