BEGIN:VCALENDAR
VERSION:2.0
PRODID:-//hacksw/handcal//NONSGML v1.0//EN
BEGIN:VEVENT
SUMMARY:Prepa physique U10 a U21
UID:5946778b-935c-4df5-bfbf-3eed0fb8846b
DTSTART:20260527T120000Z
DTEND:20260527T150000Z
LOCATION:Localisation 24 boulevard Clemenceau 38100 GRENOBLE
CATEGORIES:Sportif
STATUS:
DESCRIPTION:<p>14h a 17h au club pour les U10 a U21.</p>
URL;VALUE=URI:https://gucgrenobleski.sportsregions.fr/evenements/2026/05/27/prepa-physique-u10-a-u21-2443324
END:VEVENT
END:VCALENDAR
