BEGIN:VCALENDAR
VERSION:2.0
PRODID:-//hacksw/handcal//NONSGML v1.0//EN
BEGIN:VEVENT
SUMMARY:Stage 2 Alpes
UID:9a8fd89c-bef0-43a6-9d0e-c29f299c0a19
DTSTART:20260603T220000Z
DTEND:20260607T220000Z
LOCATION:Localisation   Les 2 Alpes
CATEGORIES:Sportif
STATUS:
DESCRIPTION:<p>Depart le mercredi a 17h30.</p>
URL;VALUE=URI:https://gucgrenobleski.sportsregions.fr/evenements/2026/06/04/stage-2-alpes-2443311
END:VEVENT
END:VCALENDAR
