BEGIN:VCALENDAR
VERSION:2.0
PRODID:-//hacksw/handcal//NONSGML v1.0//EN
BEGIN:VEVENT
SUMMARY:Prepa physique U10 a U21
UID:48ef81b2-ba58-41b4-9636-d2899724c292
DTSTART:20260610T120000Z
DTEND:20260610T150000Z
LOCATION:Localisation 24 boulevard Clemenceau 38100 GRENOBLE
CATEGORIES:Sportif
STATUS:
DESCRIPTION:<p>14h a 17h au club pour les U10 a U21.</p>
URL;VALUE=URI:https://gucgrenobleski.sportsregions.fr/evenements/2026/06/10/prepa-physique-u10-a-u21-2443319
END:VEVENT
END:VCALENDAR
