BEGIN:VCALENDAR
VERSION:2.0
PRODID:-//hacksw/handcal//NONSGML v1.0//EN
BEGIN:VEVENT
SUMMARY:Stage 2 Alpes
UID:031a9d5c-42e3-481b-b6d8-b392d6386c71
DTSTART:20260610T220000Z
DTEND:20260614T220000Z
LOCATION:Localisation   Les 2 Alpes
CATEGORIES:Sportif
STATUS:
DESCRIPTION:<p>Depart le mercredi a 17h30.</p>
URL;VALUE=URI:https://gucgrenobleski.sportsregions.fr/evenements/2026/06/11/stage-2-alpes-2443309
END:VEVENT
END:VCALENDAR
