BEGIN:VCALENDAR
VERSION:2.0
PRODID:-//hacksw/handcal//NONSGML v1.0//EN
BEGIN:VEVENT
SUMMARY:Prepa physique U10 a U21
UID:33eaadd3-ec5f-48dc-9f24-b0f4dce4b1d1
DTSTART:20260617T120000Z
DTEND:20260617T150000Z
LOCATION:Localisation 24 boulevard Clemenceau 38100 GRENOBLE
CATEGORIES:Sportif
STATUS:
DESCRIPTION:<p>14h a 17h au club pour les U10 a U21.</p>
URL;VALUE=URI:https://gucgrenobleski.sportsregions.fr/evenements/2026/06/17/prepa-physique-u10-a-u21-2443322
END:VEVENT
END:VCALENDAR
