BEGIN:VCALENDAR
VERSION:2.0
PRODID:-//hacksw/handcal//NONSGML v1.0//EN
BEGIN:VEVENT
SUMMARY:Stage 2 Alpes
UID:757663bd-a398-494c-bb65-00775ddde8ef
DTSTART:20260617T220000Z
DTEND:20260621T220000Z
LOCATION:Localisation   Les 2 Alpes
CATEGORIES:Sportif
STATUS:
DESCRIPTION:<p>Depart le mercredi a 17h30.</p>
URL;VALUE=URI:https://gucgrenobleski.sportsregions.fr/evenements/2026/06/18/stage-2-alpes-2443310
END:VEVENT
END:VCALENDAR
