BEGIN:VCALENDAR
VERSION:2.0
PRODID:-//hacksw/handcal//NONSGML v1.0//EN
BEGIN:VEVENT
SUMMARY:Prepa physique U10 a U21
UID:8da810af-68c2-48b9-bd14-e7ae3236e466
DTSTART:20260624T120000Z
DTEND:20260624T150000Z
LOCATION:Localisation 24 boulevard Clemenceau 38100 GRENOBLE
CATEGORIES:Sportif
STATUS:
DESCRIPTION:<p>14h a 17h au club pour les U10 a U21.</p>
URL;VALUE=URI:https://gucgrenobleski.sportsregions.fr/evenements/2026/06/24/prepa-physique-u10-a-u21-2443321
END:VEVENT
END:VCALENDAR
