BEGIN:VCALENDAR
VERSION:2.0
PRODID:-//hacksw/handcal//NONSGML v1.0//EN
BEGIN:VEVENT
SUMMARY:Stage Passy
UID:bf49e53e-672b-4352-a133-c03c38786054
DTSTART:20260627T070000Z
DTEND:20260630T150000Z
LOCATION:Localisation   Passy
CATEGORIES:Sportif
STATUS:
DESCRIPTION:<p>Depart le samedi matin a 9h du Burger King a
 Meylan.</p>
URL;VALUE=URI:https://gucgrenobleski.sportsregions.fr/evenements/2026/06/27/stage-passy-2443326
END:VEVENT
END:VCALENDAR
