BEGIN:VCALENDAR
VERSION:2.0
PRODID:-//hacksw/handcal//NONSGML v1.0//EN
BEGIN:VEVENT
SUMMARY:Stage Hintertux
UID:74b996b4-2c62-481b-8afb-aa2435bf25d6
DTSTART:20260703T220000Z
DTEND:20260711T220000Z
LOCATION:Localisation   Hintertux
CATEGORIES:Sportif
STATUS:
DESCRIPTION:<p>Depart samedi matin 8h du burger king Meylan.</p>
URL;VALUE=URI:https://gucgrenobleski.sportsregions.fr/evenements/2026/07/04/stage-hintertux-2443328
END:VEVENT
END:VCALENDAR
