BEGIN:VCALENDAR
VERSION:2.0
PRODID:-//hacksw/handcal//NONSGML v1.0//EN
BEGIN:VEVENT
SUMMARY:Stage PPG a la journee
UID:d3ab400d-893c-4c96-9f63-2a23a9df4148
DTSTART:20260714T220000Z
DTEND:20260717T220000Z
LOCATION:Localisation   
CATEGORIES:Sportif
STATUS:
URL;VALUE=URI:https://gucgrenobleski.sportsregions.fr/evenements/2026/07/15/stage-ppg-a-la-journee-2443330
END:VEVENT
END:VCALENDAR
