BEGIN:VCALENDAR
VERSION:2.0
PRODID:-//hacksw/handcal//NONSGML v1.0//EN
BEGIN:VEVENT
SUMMARY:Stage Amneville
UID:880bd288-dc61-4695-80b4-c934c6ef6158
DTSTART:20260816T110000Z
DTEND:20260820T220000Z
LOCATION:Localisation snowhall  Amneville
CATEGORIES:Sportif
STATUS:
URL;VALUE=URI:https://gucgrenobleski.sportsregions.fr/evenements/2026/08/16/stage-amneville-2443332
END:VEVENT
END:VCALENDAR
