BEGIN:VCALENDAR
VERSION:2.0
PRODID:-//hacksw/handcal//NONSGML v1.0//EN
BEGIN:VEVENT
SUMMARY:Stage PPG Vercors
UID:5010cd38-669a-467c-9c39-7fc31b7957e1
DTSTART:20260824T070000Z
DTEND:20260828T220000Z
LOCATION:Localisation   
CATEGORIES:Sportif
STATUS:
URL;VALUE=URI:https://gucgrenobleski.sportsregions.fr/evenements/2026/08/24/stage-ppg-vercors-2443334
END:VEVENT
END:VCALENDAR
